BEGIN:VCALENDAR
VERSION:2.0
PRODID:-//Edible Backyard - ECPv4.6.25//NONSGML v1.0//EN
CALSCALE:GREGORIAN
METHOD:PUBLISH
X-WR-CALNAME:Edible Backyard
X-ORIGINAL-URL:https://www.ediblebackyard.co.nz
X-WR-CALDESC:Events for Edible Backyard
BEGIN:VEVENT
DTSTART;TZID=Pacific/Auckland:20190114T093000
DTEND;TZID=Pacific/Auckland:20190114T120000
DTSTAMP:20181221T195530
CREATED:20181218T195533Z
LAST-MODIFIED:20181219T190319Z
UID:6717-1547458200-1547467200@www.ediblebackyard.co.nz
SUMMARY:Summer Garden Tour + Keep Your Vegie Patch Going
DESCRIPTION:Spend your Monday morning hanging out in my garden\, and be zen for the rest of the week  . \nLearn good stuff\nToday I’m encouraging you to keep your vegie patch going – make your food garden a garden for all seasons\, not just summer! Build on the fertility of the season gone and get stuck into Autumn preps so you can keep bringing this best of all foods to your table in a steady\, little and often way. We’ll go for a garden wander and chat about the highs and lows of the season and what I’m doing to keep things on an even keel. See my autumn/ winter preps in action. \nFood and drink\nWe’ll kick off with coffee + tea + home baked goodness (included in the price of your ticket). Gluten + dairy free options. \nPick up a copy of my book\nYes\, you can buy a copy of “Pruning Fruit Trees: A Beginners Guide“\, but you need to bring cash with you ok. $25 special if you have the right change  \nImportant info\n\nTickets are limited to 15 – I’m thinking boutique is better for you and me.\nNo Dogs.\nThe show goes on rain or shine. Weather report on my facebook page on the morning of.\n\nBuy your tickets\nI’m selling the tickets through Eventfinder because it’s easy for me\, and nice and simple for you too. \n\nClick on the green “Buy tickets Here” button below.\nThis takes you to my event listing on the Eventfinder website.\nClick on the blue “Buy Ticket” button and follow the instructions. Easy peasy!\nYou will need to register with Eventfinder if you aren’t already. It’s no biggie – just your email and a password … you know the drill.\nThere is a $3 booking fee\, taking the total of your ticket to $45.\n\n \n  \n \n
URL:https://www.ediblebackyard.co.nz/event/summer-garden-tour-keep-your-vegie-patch-going/
LOCATION:Edible Backyard\, 268 Florida Rd\, Levin\, New Zealand
CATEGORIES:Tours
ATTACH;FMTTYPE=image/jpeg:https://www.ediblebackyard.co.nz/wp-content/uploads/2018/12/Evening-Sun-Sunflowers-e1545162357558.jpg
END:VEVENT
BEGIN:VEVENT
DTSTART;TZID=Pacific/Auckland:20190128T093000
DTEND;TZID=Pacific/Auckland:20190128T120000
DTSTAMP:20181221T195530
CREATED:20181218T193846Z
LAST-MODIFIED:20181219T192047Z
UID:6711-1548667800-1548676800@www.ediblebackyard.co.nz
SUMMARY:Summer Garden Tour + Grow Your Own Mulch
DESCRIPTION:Spend your Monday morning hanging out in my garden\, and be zen for the rest of the week 🙂 . \nLearn good stuff\nI’m talking homemade mulch today. No matter how small your garden you can grow your own mulch. We’ll look at the herbs I use to do this – nourishing\, pretty\, feed the bees and low maintenance – multi purpose plants we love! Amazing benefits from a mixed herbal mulch\, and super easy to do. It means you use less compost + less plastic\, and do less shopping – yay! \nThen we’ll go for a garden wander and chat about the highs and lows of the season and what I’m doing to keep things on an even keel. See my homemade mulch in action. \nFood and drink\nWe’ll kick off with coffee + tea + home baked goodness (included in the price of your ticket). Gluten + dairy free options. \nPick up a copy of my book\nYes\, you can buy a copy of “Pruning Fruit Trees: A Beginners Guide“\, but you need to bring cash with you ok. $25 special if you have the right change 🙂 \nImportant info\n\nTickets are limited to 15 – I’m thinking boutique is better for you and me.\nNo Dogs.\nThe show goes on rain or shine. Weather report on my facebook page on the morning of.\n\nBuy your tickets\nI’m selling the tickets through Eventfinder because it’s easy for me\, and nice and simple for you too. \n\nClick on the green “Buy tickets Here” button below.\nThis takes you to my event listing on the Eventfinder website.\nClick on the blue “Buy Ticket” button and follow the instructions. Easy peasy!\nYou will need to register with Eventfinder if you aren’t already. It’s no biggie – just your email and a password … you know the drill.\nThere is a $3 booking fee\, taking the total of your ticket to $40.\n\n \n \n  \n  \n
URL:https://www.ediblebackyard.co.nz/event/summer-garden-tour-morning-tea/
LOCATION:Edible Backyard\, 268 Florida Rd\, Levin\, New Zealand
CATEGORIES:Tours
ATTACH;FMTTYPE=image/jpeg:https://www.ediblebackyard.co.nz/wp-content/uploads/2018/12/saladings-and-rudbeckia-e1545160246737.jpg
END:VEVENT
END:VCALENDAR